BEGIN:VCALENDAR
VERSION:2.0
PRODID:-//West Carleton Online - ECPv5.0.1//NONSGML v1.0//EN
CALSCALE:GREGORIAN
METHOD:PUBLISH
X-WR-CALNAME:West Carleton Online
X-ORIGINAL-URL:https://westcarletononline.com
X-WR-CALDESC:Events for West Carleton Online
BEGIN:VTIMEZONE
TZID:America/New_York
BEGIN:DAYLIGHT
TZOFFSETFROM:-0500
TZOFFSETTO:-0400
TZNAME:EDT
DTSTART:20260308T070000
END:DAYLIGHT
BEGIN:STANDARD
TZOFFSETFROM:-0400
TZOFFSETTO:-0500
TZNAME:EST
DTSTART:20261101T060000
END:STANDARD
END:VTIMEZONE
BEGIN:VEVENT
DTSTART;TZID=America/New_York:20260530T110000
DTEND;TZID=America/New_York:20260530T140000
DTSTAMP:20260420T214930
CREATED:20260420T205330Z
LAST-MODIFIED:20260420T205330Z
UID:56139-1780138800-1780149600@westcarletononline.com
SUMMARY:Corkery Community Centre Grand Opening
DESCRIPTION: \n
URL:https://westcarletononline.com/event/corkery-community-centre-grand-opening/
LOCATION:Corkery Community Centre
END:VEVENT
END:VCALENDAR