BEGIN:VCALENDAR
VERSION:2.0
PRODID:-//West Carleton Online - ECPv5.0.1//NONSGML v1.0//EN
CALSCALE:GREGORIAN
METHOD:PUBLISH
X-WR-CALNAME:West Carleton Online
X-ORIGINAL-URL:https://westcarletononline.com
X-WR-CALDESC:Events for West Carleton Online
BEGIN:VTIMEZONE
TZID:America/New_York
BEGIN:DAYLIGHT
TZOFFSETFROM:-0500
TZOFFSETTO:-0400
TZNAME:EDT
DTSTART:20260308T070000
END:DAYLIGHT
BEGIN:STANDARD
TZOFFSETFROM:-0400
TZOFFSETTO:-0500
TZNAME:EST
DTSTART:20261101T060000
END:STANDARD
END:VTIMEZONE
BEGIN:VEVENT
DTSTART;TZID=America/New_York:20260411T100000
DTEND;TZID=America/New_York:20260411T120000
DTSTAMP:20260425T203220
CREATED:20260319T192956Z
LAST-MODIFIED:20260319T192956Z
UID:55448-1775901600-1775908800@westcarletononline.com
SUMMARY:Seminars at St. Paul's presents Hands On Gardening
DESCRIPTION: \n
URL:https://westcarletononline.com/event/seminars-at-st-pauls-presents-hands-on-gardening/
LOCATION:St. Paul’s United Church\, 3760 Carp Rd.\, Ottawa\, ON
END:VEVENT
BEGIN:VEVENT
DTSTART;TZID=America/New_York:20260411T120000
DTEND;TZID=America/New_York:20260411T160000
DTSTAMP:20260425T203220
CREATED:20260112T193114Z
LAST-MODIFIED:20260112T195254Z
UID:54095-1775908800-1775923200@westcarletononline.com
SUMMARY:Carp Fair Euchre
DESCRIPTION: \n
URL:https://westcarletononline.com/event/carp-fair-euchre-9/
LOCATION:Carp Agricultural Hall\, 3790 Carp Road\, Carp\, Ontario\, K0A 1L0\, Canada
END:VEVENT
BEGIN:VEVENT
DTSTART;TZID=America/New_York:20260411T120000
DTEND;TZID=America/New_York:20260411T160000
DTSTAMP:20260425T203221
CREATED:20260223T185217Z
LAST-MODIFIED:20260223T185217Z
UID:54896-1775908800-1775923200@westcarletononline.com
SUMMARY:St. Michael's Church Euchre Series
DESCRIPTION: \n
URL:https://westcarletononline.com/event/st-michaels-church-euchre-series-2/
LOCATION:Fitzroy Harbour Community Centre
END:VEVENT
BEGIN:VEVENT
DTSTART;TZID=America/New_York:20260411T190000
DTEND;TZID=America/New_York:20260411T220000
DTSTAMP:20260425T203221
CREATED:20260317T160451Z
LAST-MODIFIED:20260317T160451Z
UID:55385-1775934000-1775944800@westcarletononline.com
SUMMARY:Spark the Night Party for Parkinson's Disease Awareness in Carp
DESCRIPTION: \n
URL:https://westcarletononline.com/event/spark-the-night-party-for-parkinsons-disease-awareness-in-carp/
LOCATION:West Carleton Amateur Sports Club\, W. Erskine Johnston Arena\, 3832 Carp Road\, Carp\, ON\, K0A 1L0\, Canada
END:VEVENT
END:VCALENDAR