BEGIN:VCALENDAR
VERSION:2.0
PRODID:-//West Carleton Online - ECPv5.0.1//NONSGML v1.0//EN
CALSCALE:GREGORIAN
METHOD:PUBLISH
X-WR-CALNAME:West Carleton Online
X-ORIGINAL-URL:https://westcarletononline.com
X-WR-CALDESC:Events for West Carleton Online
BEGIN:VTIMEZONE
TZID:America/New_York
BEGIN:DAYLIGHT
TZOFFSETFROM:-0500
TZOFFSETTO:-0400
TZNAME:EDT
DTSTART:20240310T070000
END:DAYLIGHT
BEGIN:STANDARD
TZOFFSETFROM:-0400
TZOFFSETTO:-0500
TZNAME:EST
DTSTART:20241103T060000
END:STANDARD
END:VTIMEZONE
BEGIN:VEVENT
DTSTART;TZID=America/New_York:20241105T190000
DTEND;TZID=America/New_York:20241110T140000
DTSTAMP:20260424T214022
CREATED:20241003T150242Z
LAST-MODIFIED:20241003T150242Z
UID:45164-1730833200-1731247200@westcarletononline.com
SUMMARY:The RRTC presents Sex Please\, We're Sixty
DESCRIPTION: \n
URL:https://westcarletononline.com/event/the-rrtc-presents-sex-please-were-sixty/
LOCATION:Northwind Wireless Centre (Point Beach)\, 262 Len Purcell\, 262 Len Purcell Drive
END:VEVENT
BEGIN:VEVENT
DTSTART;TZID=America/New_York:20241109T090000
DTEND;TZID=America/New_York:20241109T150000
DTSTAMP:20260424T214023
CREATED:20241016T202640Z
LAST-MODIFIED:20241016T202640Z
UID:45513-1731142800-1731164400@westcarletononline.com
SUMMARY:42nd Annual Kinburn Craft and Gift Fair
DESCRIPTION: \n
URL:https://westcarletononline.com/event/42nd-annual-kinburn-craft-and-gift-fair/
LOCATION:Kinburn Community Centre\, 3045 Kinburn Side Rd.\, Ottawa\, Ontario\, K0A 2H0\, Canada
END:VEVENT
BEGIN:VEVENT
DTSTART;TZID=America/New_York:20241109T100000
DTEND;TZID=America/New_York:20241110T160000
DTSTAMP:20260424T214023
CREATED:20241002T192100Z
LAST-MODIFIED:20241002T192100Z
UID:45028-1731146400-1731254400@westcarletononline.com
SUMMARY:Kanata Art Club Christmas 2024 $200 and Under Sale
DESCRIPTION:Kanata Art Club 2024 $200 and Under Sale;  Beautiful\, unique and affordable gifts.  Original artwork by KAC members. Sale being held at the March Central Community Centre\, 630 Cameron Harvey Drive\, Kanata (K2K 1X7) November 9th and 10th \, Saturday 10am -5 pm Sunday 10am – 4pm; free admission; free refreshments. Looking forward to seeing you there!  Check out our website:  www.kanataartclub.com. \n
URL:https://westcarletononline.com/event/kanata-art-club-christmas-2024-200-and-under-sale/
LOCATION:March Central Community Center\, 630 Cameron Harvey Drive\, Kanata\, Ontario\, K2K 1X7\, Canada
ORGANIZER;CN="Kanata%20Art%20Club":MAILTO:kahorl@rogers.com
END:VEVENT
BEGIN:VEVENT
DTSTART;TZID=America/New_York:20241109T133000
DTEND;TZID=America/New_York:20241109T150000
DTSTAMP:20260424T214023
CREATED:20241108T182455Z
LAST-MODIFIED:20241108T182455Z
UID:45988-1731159000-1731164400@westcarletononline.com
SUMMARY:Legion Branch 616 Remembrance Day Service
DESCRIPTION:\nLegion Branch 616 Remembrance Ceremony/Parade – Sat Nov 9\, 1:30pm\n\n\nAll are welcome to attend our Remembrance ceremony and parade\, which is held by our Legion Branch 616 in Constance Bay on Saturday\, November 9\, the Saturday before actual Remembrance Day. As is done across our country\, we will honour those who served and sacrificed their lives.\nAll veterans are welcome to march in the parade and youth members of Scouts and Guides.\n\n\nThe parade route will be from the Constance Bay Grocery to the Legion at 377 Allbirch. The Ceremony is held at the Branch cenotaph\, and we are open following the ceremony\, including a complimentary lunch.\n\n\nPlease note road closures are in effect at 1:30 pm during the parade on Constance Bay Road from McConnell Lane to Allbirch Rd and on Allbirch Rd at the Legion until the ceremony ends ( approx 2:30pm). Alternate routes are available\, and emergencies excepted.\n\n\nWe will remember them.\n\n
URL:https://westcarletononline.com/event/legion-branch-616-remembrance-day-service/
LOCATION:Royal Canadian Legion\, Branch 616\, 377 Allbirch Rd.\, Ottawa
END:VEVENT
END:VCALENDAR