BEGIN:VCALENDAR
VERSION:2.0
PRODID:-//West Carleton Online - ECPv5.0.1//NONSGML v1.0//EN
CALSCALE:GREGORIAN
METHOD:PUBLISH
X-WR-CALNAME:West Carleton Online
X-ORIGINAL-URL:https://westcarletononline.com
X-WR-CALDESC:Events for West Carleton Online
BEGIN:VTIMEZONE
TZID:UTC
BEGIN:STANDARD
TZOFFSETFROM:+0000
TZOFFSETTO:+0000
TZNAME:UTC
DTSTART:20230101T000000
END:STANDARD
END:VTIMEZONE
BEGIN:VEVENT
DTSTART;TZID=UTC:20230525T190000
DTEND;TZID=UTC:20230525T210000
DTSTAMP:20260426T012134
CREATED:20230508T202057Z
LAST-MODIFIED:20230508T202057Z
UID:35019-1685041200-1685048400@westcarletononline.com
SUMMARY:Huntley Community Association annual general meeting
DESCRIPTION:The Huntley Community Association’s Annual General Meeting will be held on Thursday\, May 25. \nAll community members are invited to attend. \nMeeting Date: Thursday\, May 25\, 2023\nTime: 7:00 p.m.\nWhere: HCA Mess Hall\, 2240 Craig Side Road Carp \nCoffee\, tea and light refreshments will be available during the meeting. \nLet us know you’re coming!\nIf you plan to attend this year\, please send an email to agm@hca-carp.ca to give us an idea of how many people to expect. \nMore information\, including meeting documents\, can be found on the HCA website:\nhttps://hca-carp.ca/about/2023-agm-announcement/  \n
URL:https://westcarletononline.com/event/huntley-community-association-annual-general-meeting-3/
LOCATION:Carp Mess Hall
END:VEVENT
END:VCALENDAR