BEGIN:VCALENDAR
VERSION:2.0
PRODID:-//West Carleton Online - ECPv5.0.1//NONSGML v1.0//EN
CALSCALE:GREGORIAN
METHOD:PUBLISH
X-WR-CALNAME:West Carleton Online
X-ORIGINAL-URL:https://westcarletononline.com
X-WR-CALDESC:Events for West Carleton Online
BEGIN:VTIMEZONE
TZID:UTC
BEGIN:STANDARD
TZOFFSETFROM:+0000
TZOFFSETTO:+0000
TZNAME:UTC
DTSTART:20230101T000000
END:STANDARD
END:VTIMEZONE
BEGIN:VEVENT
DTSTART;TZID=UTC:20230101T133000
DTEND;TZID=UTC:20230101T150000
DTSTAMP:20260422T184018
CREATED:20221214T010846Z
LAST-MODIFIED:20221214T010846Z
UID:32142-1672579800-1672585200@westcarletononline.com
SUMMARY:Legion Branch 616 New Year's Day Levee
DESCRIPTION:Everyone is invited to drop in to the branch for the annual New Year open house. \nThe bar will open at noon\, complimentary lunch will be served from 1:30 p.m. to 3 p.m. \nPlease join us in welcoming the New Year with some New Year’s Day rehab and fellowship. \n
URL:https://westcarletononline.com/event/legion-branch-616-new-years-day-levee/
LOCATION:Royal Canadian Legion\, Branch 616\, 377 Allbirch Rd.\, Ottawa
END:VEVENT
END:VCALENDAR