BEGIN:VCALENDAR
VERSION:2.0
PRODID:-//West Carleton Online - ECPv5.0.1//NONSGML v1.0//EN
CALSCALE:GREGORIAN
METHOD:PUBLISH
X-WR-CALNAME:West Carleton Online
X-ORIGINAL-URL:https://westcarletononline.com
X-WR-CALDESC:Events for West Carleton Online
BEGIN:VTIMEZONE
TZID:UTC
BEGIN:STANDARD
TZOFFSETFROM:+0000
TZOFFSETTO:+0000
TZNAME:UTC
DTSTART:20220101T000000
END:STANDARD
END:VTIMEZONE
BEGIN:VEVENT
DTSTART;TZID=UTC:20220913T190000
DTEND;TZID=UTC:20220913T210000
DTSTAMP:20260422T105824
CREATED:20220919T055833Z
LAST-MODIFIED:20220919T055833Z
UID:30277-1663095600-1663102800@westcarletononline.com
SUMMARY:Goulbourn Male Chorus Rehearsal
DESCRIPTION:The Goulbourn Male Chorus is looking for new members! \nIf you like to socialize with other like-minded men who love to sing\, why not come and try us out at our first rehearsal of the upcoming season. We are a community-based chorus made up of men from Stittsville\, Kanata and West Carleton. You can check us out at goulbournmalechorus.com or email us at goulbournmalechorus@gmail.com. Come out to one of our practices at at 7PM starting September 13. We present two main concerts\, one at Christmas and one in the spring\, plus we visit several area retirement residences. We also generally pop into a local pub following practices. Come on out\, we would love to have you join us. \n
URL:https://westcarletononline.com/event/goulbourn-male-chorus-rehearsal/
LOCATION:Trinity Presbyterian Church\, 1817 Richardson Side Road\, Kanata\, Ontario\, Canada
ORGANIZER;CN="Goulbourn%20Male%20Chorus":MAILTO:peter_fischer@rogers.com
END:VEVENT
END:VCALENDAR