BEGIN:VCALENDAR
VERSION:2.0
PRODID:-//West Carleton Online - ECPv5.0.1//NONSGML v1.0//EN
CALSCALE:GREGORIAN
METHOD:PUBLISH
X-WR-CALNAME:West Carleton Online
X-ORIGINAL-URL:https://westcarletononline.com
X-WR-CALDESC:Events for West Carleton Online
BEGIN:VTIMEZONE
TZID:UTC
BEGIN:STANDARD
TZOFFSETFROM:+0000
TZOFFSETTO:+0000
TZNAME:UTC
DTSTART:20220101T000000
END:STANDARD
END:VTIMEZONE
BEGIN:VEVENT
DTSTART;VALUE=DATE:20220910
DTEND;VALUE=DATE:20220911
DTSTAMP:20260420T052431
CREATED:20220718T215747Z
LAST-MODIFIED:20220718T215747Z
UID:29413-1662768000-1662854399@westcarletononline.com
SUMMARY:AGH Run/Walk for Women's Health
DESCRIPTION:3km\, 5km and 10km run or walk in support of the Birthing Unit at the Almonte General Hospital.  Prizes for funds raised and for run/walk times.  Family activities including an intergenerational relay race. \nhttps://raceroster.com/events/2022/58688/2022-agh-run-for-womens-health \n
URL:https://westcarletononline.com/event/agh-run-walk-for-womens-health-2/
LOCATION:Almonte General Hospital\, 75 Spring St.\, Almonte\, ON\, K0A 1A0\, Canada
ORGANIZER;CN="Almonte%20General%20Hospital%20Fairview%20Manor%20Foundation":MAILTO:lbeckinsale@agh-fvm.com
END:VEVENT
BEGIN:VEVENT
DTSTART;TZID=UTC:20220910T100000
DTEND;TZID=UTC:20220910T120000
DTSTAMP:20260420T052431
CREATED:20220726T162416Z
LAST-MODIFIED:20220726T162416Z
UID:29566-1662804000-1662811200@westcarletononline.com
SUMMARY:Carp Fitness Park (re)Launch
DESCRIPTION:Join us on Saturday\, September 10th from 10am to noon for the long-delayed Carp Fitness Park (re)launch! \nYou’ll have the opportunity to meet & greet local Carp wellness vendors and check out the fitness park equipment. \nAny health mandates in place at the time will be followed. \n(Note: inclement weather may result in event cancellation) \n
URL:https://westcarletononline.com/event/carp-fitness-park-relaunch/
LOCATION:Carp Fitness Park\, 198 Langstaff Dr.\, Ottawa\, Ontario
END:VEVENT
BEGIN:VEVENT
DTSTART;TZID=UTC:20220910T130000
DTEND;TZID=UTC:20220910T150000
DTSTAMP:20260420T052431
CREATED:20220901T213007Z
LAST-MODIFIED:20220901T213007Z
UID:30212-1662814800-1662822000@westcarletononline.com
SUMMARY:AutumnFest Open House
DESCRIPTION:Join us for our AutumnFest Open House!  Enjoy delicious appetizers\, treats\, live entertainment\, prizes and much more! \n  \n
URL:https://westcarletononline.com/event/autumnfest-open-house/
LOCATION:Carp Commons Retirement Village\, 485 Donald B. Munro Drive\, Carp\, ON\, K0A1L0\, Canada
ORGANIZER;CN="Carp%20Commons%20Retirem":MAILTO:crm1.carp@verveseniorliving.com
END:VEVENT
END:VCALENDAR