BEGIN:VCALENDAR
VERSION:2.0
PRODID:-//West Carleton Online - ECPv5.0.1//NONSGML v1.0//EN
CALSCALE:GREGORIAN
METHOD:PUBLISH
X-WR-CALNAME:West Carleton Online
X-ORIGINAL-URL:https://westcarletononline.com
X-WR-CALDESC:Events for West Carleton Online
BEGIN:VTIMEZONE
TZID:UTC
BEGIN:STANDARD
TZOFFSETFROM:+0000
TZOFFSETTO:+0000
TZNAME:UTC
DTSTART:20210101T000000
END:STANDARD
END:VTIMEZONE
BEGIN:VEVENT
DTSTART;TZID=UTC:20210506T180000
DTEND;TZID=UTC:20210506T190000
DTSTAMP:20260425T025844
CREATED:20210325T223232Z
LAST-MODIFIED:20210325T223232Z
UID:20227-1620324000-1620327600@westcarletononline.com
SUMMARY:Project UPTick Town Hall
DESCRIPTION:Project UpTick researchers are holding a virtual town hall meeting on May 6 from 6 to 7 p.m. to share information about the project and the first-year’s results with community members of four study neighborhoods\, which include Carp. \nPlease mark your calendar and you are welcome to join via the registration link: https://uottawa-ca.zoom.us/webinar/register/WN_PP-QQ8bDTwSyiIs_OGa_rA \nThe UPTick project will soon be launching its second year of field activities in four Ottawa neighbourhoods. University of Ottawa researchers\, led by Dr. Manisha Kulkarni\, will continue their project on ticks and Lyme disease in areas of Kanata North & South\, Stittsville\, and Carp this season. The project aims to assess the impacts of urban change on tick populations and tick-borne disease transmission. \n
URL:https://westcarletononline.com/event/project-uptick-town-hall/
END:VEVENT
END:VCALENDAR