BEGIN:VCALENDAR
VERSION:2.0
PRODID:-//West Carleton Online - ECPv5.0.1//NONSGML v1.0//EN
CALSCALE:GREGORIAN
METHOD:PUBLISH
X-WR-CALNAME:West Carleton Online
X-ORIGINAL-URL:https://westcarletononline.com
X-WR-CALDESC:Events for West Carleton Online
BEGIN:VTIMEZONE
TZID:UTC
BEGIN:STANDARD
TZOFFSETFROM:+0000
TZOFFSETTO:+0000
TZNAME:UTC
DTSTART:20180101T000000
END:STANDARD
END:VTIMEZONE
BEGIN:VEVENT
DTSTART;TZID=UTC:20180911T100000
DTEND;TZID=UTC:20180911T110000
DTSTAMP:20260420T142320
CREATED:20180910T020332Z
LAST-MODIFIED:20180910T020332Z
UID:2073-1536660000-1536663600@westcarletononline.com
SUMMARY:ZUMBA class\, Tuesdays at Carp Mess Hall
DESCRIPTION:Zumba fitness class starting on Sept. 11.  First class free. \nFor everybody and every body! Men and women; all ages. No dance experience needed; this is NOT a dance routine.  Take the “work” out of workout\, by mixing low-intensity and high-intensity moves for an interval-style\, calorie-burning dance fitness party. Once the Latin and World rhythms take over\, you’ll see why Zumba® Fitness classes are often called exercise in disguise. Super effective? Check. Super fun? Check and check. \nContact Huntley Comm. Ass. to register – http://hca-carp.ca/zumba-at-the-mess-hall/ \n10 weeks for $75 – Sept. 18 to Nov. 20 \n  \n
URL:https://westcarletononline.com/event/zumba-class-tuesdays-at-carp-mess-hall/
LOCATION:Carp Mess Hall\,\, 2240 Craig Side Road\, Carp\, ON\, K0A 1L0\, Canada
ORGANIZER;CN="Huntley%20Community%20Association":MAILTO:info@hca-carp.ca
END:VEVENT
END:VCALENDAR