BEGIN:VCALENDAR
VERSION:2.0
PRODID:-//West Carleton Online - ECPv5.0.1//NONSGML v1.0//EN
CALSCALE:GREGORIAN
METHOD:PUBLISH
X-WR-CALNAME:West Carleton Online
X-ORIGINAL-URL:https://westcarletononline.com
X-WR-CALDESC:Events for West Carleton Online
BEGIN:VTIMEZONE
TZID:UTC
BEGIN:STANDARD
TZOFFSETFROM:+0000
TZOFFSETTO:+0000
TZNAME:UTC
DTSTART:20200101T000000
END:STANDARD
END:VTIMEZONE
BEGIN:VEVENT
DTSTART;TZID=UTC:20200206T103000
DTEND;TZID=UTC:20200206T113000
DTSTAMP:20260424T132006
CREATED:20200206T202733Z
LAST-MODIFIED:20200206T213009Z
UID:13032-1580985000-1580988600@westcarletononline.com
SUMMARY:World Day of Prayer
DESCRIPTION:Join us for this year’s service written by the women of Zimbabwe.  Presented by the Anglican\, United\, Roman Catholic and OASIS churches of Fitzroy Harbour\, Woodlawn\, Constance Bay and Kinburn. \n
URL:https://westcarletononline.com/event/world-day-of-prayer/
LOCATION:St George’s Anglican Church\, Fitzroy Harbour\, 176 Shirreff St.
END:VEVENT
END:VCALENDAR