BEGIN:VCALENDAR
VERSION:2.0
PRODID:-//West Carleton Online - ECPv5.0.1//NONSGML v1.0//EN
CALSCALE:GREGORIAN
METHOD:PUBLISH
X-WR-CALNAME:West Carleton Online
X-ORIGINAL-URL:https://westcarletononline.com
X-WR-CALDESC:Events for West Carleton Online
BEGIN:VTIMEZONE
TZID:America/New_York
BEGIN:DAYLIGHT
TZOFFSETFROM:-0500
TZOFFSETTO:-0400
TZNAME:EDT
DTSTART:20250309T070000
END:DAYLIGHT
BEGIN:STANDARD
TZOFFSETFROM:-0400
TZOFFSETTO:-0500
TZNAME:EST
DTSTART:20251102T060000
END:STANDARD
END:VTIMEZONE
BEGIN:VEVENT
DTSTART;TZID=America/New_York:20250429T160000
DTEND;TZID=America/New_York:20250429T173000
DTSTAMP:20260421T083626
CREATED:20250418T145603Z
LAST-MODIFIED:20250418T145603Z
UID:49113-1745942400-1745947800@westcarletononline.com
SUMMARY:WOCRC West Carleton Community Conversation
DESCRIPTION: \n
URL:https://westcarletononline.com/event/wocrc-west-carleton-community-conversation-2/
LOCATION:Carp Branch – Ottawa Public Library\, 3911 Carp Road
END:VEVENT
END:VCALENDAR