BEGIN:VCALENDAR
VERSION:2.0
PRODID:-//West Carleton Online - ECPv5.0.1//NONSGML v1.0//EN
CALSCALE:GREGORIAN
METHOD:PUBLISH
X-WR-CALNAME:West Carleton Online
X-ORIGINAL-URL:https://westcarletononline.com
X-WR-CALDESC:Events for West Carleton Online
BEGIN:VTIMEZONE
TZID:UTC
BEGIN:STANDARD
TZOFFSETFROM:+0000
TZOFFSETTO:+0000
TZNAME:UTC
DTSTART:20230101T000000
END:STANDARD
END:VTIMEZONE
BEGIN:VEVENT
DTSTART;TZID=UTC:20230716T140000
DTEND;TZID=UTC:20230716T150000
DTSTAMP:20260425T180431
CREATED:20230626T205238Z
LAST-MODIFIED:20230626T205238Z
UID:35958-1689516000-1689519600@westcarletononline.com
SUMMARY:Whytes United Cemetery Memorial Service
DESCRIPTION:Whytes United Cemetery Memorial Service will be held on the cemetery grounds at 5401 Canon Smith Road on Sunday July 16 at 2 p.m. \nPlease bring a lawn chair. In the event of rain the service will be held at the Bethel- St Andrew’s United Church at 184 Jack Lougheed Way in Fitzroy Harbour. \nFor more information email ken@ferryroadfarm.ca \n
URL:https://westcarletononline.com/event/whytes-united-cemetery-memorial-service/
ORGANIZER;CN="Bethel-St.%20Andrew%27s%20United%20Church":MAILTO:info@bethelstandrews.com
END:VEVENT
END:VCALENDAR