BEGIN:VCALENDAR
VERSION:2.0
PRODID:-//West Carleton Online - ECPv5.0.1//NONSGML v1.0//EN
CALSCALE:GREGORIAN
METHOD:PUBLISH
X-WR-CALNAME:West Carleton Online
X-ORIGINAL-URL:https://westcarletononline.com
X-WR-CALDESC:Events for West Carleton Online
BEGIN:VTIMEZONE
TZID:UTC
BEGIN:STANDARD
TZOFFSETFROM:+0000
TZOFFSETTO:+0000
TZNAME:UTC
DTSTART:20180101T000000
END:STANDARD
END:VTIMEZONE
BEGIN:VEVENT
DTSTART;TZID=UTC:20181028T140000
DTEND;TZID=UTC:20181028T160000
DTSTAMP:20260424T105749
CREATED:20181015T194133Z
LAST-MODIFIED:20181015T194133Z
UID:2788-1540735200-1540742400@westcarletononline.com
SUMMARY:West Carleton Trunk or Treat
DESCRIPTION: \n
URL:https://westcarletononline.com/event/west-carleton-trunk-or-treat/
LOCATION:Kinburn Community Centre\, 3045 Kinburn Side Rd.\, Ottawa\, Ontario\, K0A 2H0\, Canada
END:VEVENT
END:VCALENDAR