BEGIN:VCALENDAR
VERSION:2.0
PRODID:-//West Carleton Online - ECPv5.0.1//NONSGML v1.0//EN
CALSCALE:GREGORIAN
METHOD:PUBLISH
X-WR-CALNAME:West Carleton Online
X-ORIGINAL-URL:https://westcarletononline.com
X-WR-CALDESC:Events for West Carleton Online
BEGIN:VTIMEZONE
TZID:UTC
BEGIN:STANDARD
TZOFFSETFROM:+0000
TZOFFSETTO:+0000
TZNAME:UTC
DTSTART:20180101T000000
END:STANDARD
END:VTIMEZONE
BEGIN:VEVENT
DTSTART;TZID=UTC:20180916T093000
DTEND;TZID=UTC:20180916T143000
DTSTAMP:20260424T080024
CREATED:20180915T002954Z
LAST-MODIFIED:20180915T002954Z
UID:2197-1537090200-1537108200@westcarletononline.com
SUMMARY:West Carleton Terry Fox Run
DESCRIPTION:The event starts at the NorthWind Wireless Fibe Centre (Constance Bay community centre). For more information on the event\, read the West Carleton Online story by clicking here. \n
URL:https://westcarletononline.com/event/west-carleton-terry-fox-run/
END:VEVENT
END:VCALENDAR