BEGIN:VCALENDAR
VERSION:2.0
PRODID:-//West Carleton Online - ECPv5.0.1//NONSGML v1.0//EN
CALSCALE:GREGORIAN
METHOD:PUBLISH
X-WR-CALNAME:West Carleton Online
X-ORIGINAL-URL:https://westcarletononline.com
X-WR-CALDESC:Events for West Carleton Online
BEGIN:VTIMEZONE
TZID:UTC
BEGIN:STANDARD
TZOFFSETFROM:+0000
TZOFFSETTO:+0000
TZNAME:UTC
DTSTART:20230101T000000
END:STANDARD
END:VTIMEZONE
BEGIN:VEVENT
DTSTART;TZID=UTC:20231104T130000
DTEND;TZID=UTC:20231104T143000
DTSTAMP:20260424T003414
CREATED:20231017T191549Z
LAST-MODIFIED:20231017T193124Z
UID:38151-1699102800-1699108200@westcarletononline.com
SUMMARY:West Carleton Royal Canadian Legion\, Branch 616 Remembrance Service
DESCRIPTION:Branch 616 Remembrance Day. Doors open at noon; parade forms up at 1 p.m. at McConnell and Constance Bay Road\, marches off at 1:30 p.m. for the Legion cenotaph ceremony. Come in for lunch after the commemorations. \n
URL:https://westcarletononline.com/event/west-carleton-royal-canadian-legion-branch-616-remembrance-service/
LOCATION:Royal Canadian Legion\, Branch 616\, 377 Allbirch Rd.\, Ottawa
END:VEVENT
END:VCALENDAR