BEGIN:VCALENDAR
VERSION:2.0
PRODID:-//West Carleton Online - ECPv5.0.1//NONSGML v1.0//EN
CALSCALE:GREGORIAN
METHOD:PUBLISH
X-WR-CALNAME:West Carleton Online
X-ORIGINAL-URL:https://westcarletononline.com
X-WR-CALDESC:Events for West Carleton Online
BEGIN:VTIMEZONE
TZID:UTC
BEGIN:STANDARD
TZOFFSETFROM:+0000
TZOFFSETTO:+0000
TZNAME:UTC
DTSTART:20230101T000000
END:STANDARD
END:VTIMEZONE
BEGIN:VEVENT
DTSTART;TZID=UTC:20230502T190000
DTEND;TZID=UTC:20230502T210000
DTSTAMP:20260422T023302
CREATED:20230425T215244Z
LAST-MODIFIED:20230425T215244Z
UID:34738-1683054000-1683061200@westcarletononline.com
SUMMARY:West Carleton Minor Hockey Association Annual General Meeting (online)
DESCRIPTION:\nCircle Tuesday\, May 2 at 7 p.m. in your calendar and log in to the West CArleton Minor Hockey Association annual general meeting. Registration is required! \nPlease click here to register: https://us02web.zoom.us/…/tZwscOioqj0pGdzLoQnA0XsaLrv0Q… \nTo ensure you receive the zoom link\, please make you have registered at least 24hrs in advance. \n\n
URL:https://westcarletononline.com/event/west-carleton-minor-hockey-association-annual-general-meeting-online/
END:VEVENT
END:VCALENDAR