BEGIN:VCALENDAR
VERSION:2.0
PRODID:-//West Carleton Online - ECPv5.0.1//NONSGML v1.0//EN
CALSCALE:GREGORIAN
METHOD:PUBLISH
X-WR-CALNAME:West Carleton Online
X-ORIGINAL-URL:https://westcarletononline.com
X-WR-CALDESC:Events for West Carleton Online
BEGIN:VTIMEZONE
TZID:UTC
BEGIN:STANDARD
TZOFFSETFROM:+0000
TZOFFSETTO:+0000
TZNAME:UTC
DTSTART:20180101T000000
END:STANDARD
END:VTIMEZONE
BEGIN:VEVENT
DTSTART;TZID=UTC:20180917T130000
DTEND;TZID=UTC:20180917T150000
DTSTAMP:20260422T032108
CREATED:20180912T184814Z
LAST-MODIFIED:20180912T184814Z
UID:2140-1537189200-1537196400@westcarletononline.com
SUMMARY:West Carleton Country Knitters
DESCRIPTION:We start another season of knitting and crocheting for local charities. Last year we donated 2\,956 items made with donated yarn. We meet in members homes every second Monday from 1 to 3. If you have yarn you would like to donate please call Eleanor at 613-839-5403. \n
URL:https://westcarletononline.com/event/west-carleton-country-knitters/
END:VEVENT
END:VCALENDAR