BEGIN:VCALENDAR
VERSION:2.0
PRODID:-//West Carleton Online - ECPv5.0.1//NONSGML v1.0//EN
CALSCALE:GREGORIAN
METHOD:PUBLISH
X-WR-CALNAME:West Carleton Online
X-ORIGINAL-URL:https://westcarletononline.com
X-WR-CALDESC:Events for West Carleton Online
BEGIN:VTIMEZONE
TZID:UTC
BEGIN:STANDARD
TZOFFSETFROM:+0000
TZOFFSETTO:+0000
TZNAME:UTC
DTSTART:20220101T000000
END:STANDARD
END:VTIMEZONE
BEGIN:VEVENT
DTSTART;TZID=UTC:20220302T190000
DTEND;TZID=UTC:20220302T200000
DTSTAMP:20260419T233424
CREATED:20220228T232248Z
LAST-MODIFIED:20220228T232530Z
UID:26561-1646247600-1646251200@westcarletononline.com
SUMMARY:Webinar Series: Rural Transportation Solutions for Ottawa
DESCRIPTION:Rural Transportations Solutions is a community-based team that aims to propose realistic\, affordable and sustainable transportation options to help solve rural Ottawa’s transportation deficiencies. We will be conducting a series of webinars in March with the aim of sharing information with rural Ottawa residents about the variety of solutions that are available that could help lead to solutions for Rural Ottawa. \nThe first webinar will be held on Wednesday\, 2 March evening from 7-8:00 PM and will feature Bellville’s On Demand bus service in its rural and industrial areas. Additional weekly webinars on Wednesday evenings (except for the Spring Break) will feature Ride Sharing solutions\, the use of Community Busing\, and Funding Options. \nFor more information on the webinar\, click here: https://rural-transportation-solutions-for-ottawa.info/webinar-series-march-2022 \n \n
URL:https://westcarletononline.com/event/webinar-series-rural-transportation-solutions-for-ottawa/
LOCATION:Rural Transportation Solutions\, 5032 Stonecrest Rd\, RR#2 Woodlawn\, Ontario\, K0A| 3M0\, Canada
ORGANIZER;CN="Rural%20Transportation%20Solutions":MAILTO:ken.holmes@sympatico.ca
END:VEVENT
END:VCALENDAR