BEGIN:VCALENDAR
VERSION:2.0
PRODID:-//West Carleton Online - ECPv5.0.1//NONSGML v1.0//EN
CALSCALE:GREGORIAN
METHOD:PUBLISH
X-WR-CALNAME:West Carleton Online
X-ORIGINAL-URL:https://westcarletononline.com
X-WR-CALDESC:Events for West Carleton Online
BEGIN:VTIMEZONE
TZID:UTC
BEGIN:STANDARD
TZOFFSETFROM:+0000
TZOFFSETTO:+0000
TZNAME:UTC
DTSTART:20230101T000000
END:STANDARD
END:VTIMEZONE
BEGIN:VEVENT
DTSTART;TZID=UTC:20230517T183000
DTEND;TZID=UTC:20230517T183000
DTSTAMP:20260425T155852
CREATED:20230417T195018Z
LAST-MODIFIED:20230417T195018Z
UID:34535-1684348200-1684348200@westcarletononline.com
SUMMARY:WCDR Disaster Preparedness Information Session
DESCRIPTION: \n
URL:https://westcarletononline.com/event/wcdr-disaster-preparedness-information-session/
LOCATION:West Carleton Community Complex\, 5670 Carp Road\, Kinburn\, Ontario\, K0A 2H0\, Canada
END:VEVENT
END:VCALENDAR