BEGIN:VCALENDAR
VERSION:2.0
PRODID:-//West Carleton Online - ECPv5.0.1//NONSGML v1.0//EN
CALSCALE:GREGORIAN
METHOD:PUBLISH
X-WR-CALNAME:West Carleton Online
X-ORIGINAL-URL:https://westcarletononline.com
X-WR-CALDESC:Events for West Carleton Online
BEGIN:VTIMEZONE
TZID:UTC
BEGIN:STANDARD
TZOFFSETFROM:+0000
TZOFFSETTO:+0000
TZNAME:UTC
DTSTART:20230101T000000
END:STANDARD
END:VTIMEZONE
BEGIN:VEVENT
DTSTART;TZID=UTC:20231201T150000
DTEND;TZID=UTC:20231203T160000
DTSTAMP:20260425T222329
CREATED:20231121T213146Z
LAST-MODIFIED:20231121T213146Z
UID:38967-1701442800-1701619200@westcarletononline.com
SUMMARY:WCAS' Artistic Creations
DESCRIPTION: \n
URL:https://westcarletononline.com/event/wcas-artistic-creations-2/
LOCATION:St. Paul’s United Church\, Carp\, 3760 Carp Road\, Carp\, ON\, K0A 1L0\, Canada
END:VEVENT
END:VCALENDAR