BEGIN:VCALENDAR
VERSION:2.0
PRODID:-//West Carleton Online - ECPv5.0.1//NONSGML v1.0//EN
CALSCALE:GREGORIAN
METHOD:PUBLISH
X-WR-CALNAME:West Carleton Online
X-ORIGINAL-URL:https://westcarletononline.com
X-WR-CALDESC:Events for West Carleton Online
BEGIN:VTIMEZONE
TZID:UTC
BEGIN:STANDARD
TZOFFSETFROM:+0000
TZOFFSETTO:+0000
TZNAME:UTC
DTSTART:20190101T000000
END:STANDARD
END:VTIMEZONE
BEGIN:VEVENT
DTSTART;TZID=UTC:20190413T190000
DTEND;TZID=UTC:20190413T233000
DTSTAMP:20260424T085155
CREATED:20190323T175532Z
LAST-MODIFIED:20190323T175532Z
UID:5783-1555182000-1555198200@westcarletononline.com
SUMMARY:Valley Dance and Social
DESCRIPTION:Put your dancing shoes on for a Valley Dance and Social in support of transportation for Arnprior’s Special Olympians.  Music by Rick Leben and Low Mileage Band.  Live Auction by Pat Smith including a private plane ride for two! Tickets are $10.  Available from Jorgen at 613-618-3080 or Rick at 613-832-1940. \n
URL:https://westcarletononline.com/event/valley-dance-and-social/
LOCATION:Fitzroy Harbour Community Centre
ORGANIZER;CN="Bethel%20St.%20Andrew%27s%20United%20Church":MAILTO:info@bethelstandrews.com
END:VEVENT
END:VCALENDAR