BEGIN:VCALENDAR
VERSION:2.0
PRODID:-//West Carleton Online - ECPv5.0.1//NONSGML v1.0//EN
CALSCALE:GREGORIAN
METHOD:PUBLISH
X-WR-CALNAME:West Carleton Online
X-ORIGINAL-URL:https://westcarletononline.com
X-WR-CALDESC:Events for West Carleton Online
BEGIN:VTIMEZONE
TZID:UTC
BEGIN:STANDARD
TZOFFSETFROM:+0000
TZOFFSETTO:+0000
TZNAME:UTC
DTSTART:20220101T000000
END:STANDARD
END:VTIMEZONE
BEGIN:VEVENT
DTSTART;TZID=UTC:20220524T120000
DTEND;TZID=UTC:20220524T130000
DTSTAMP:20260423T220116
CREATED:20220517T171441Z
LAST-MODIFIED:20220517T171441Z
UID:28155-1653393600-1653397200@westcarletononline.com
SUMMARY:Turtle identification with the CWF's David Seburn (online)
DESCRIPTION:The Carp Hills are home to three species of turtles. Do you know how to identify them? Would you like to contribute to citizen science by recording your turtle observations? \nJoin the Canadian Wildlife Federation (CWF) for a webinar about how to photograph and identify turtles using iNaturalist\, with CWF’s very own turtle expert David Seburn in English and CWF’s Annie Belair in French. \nFor more information and to register: https://cwf-fcf.org/…/events/inaturalist-csi-turtles.html \n
URL:https://westcarletononline.com/event/turtle-identification-with-the-cwfs-david-seburn-online/
END:VEVENT
END:VCALENDAR