BEGIN:VCALENDAR
VERSION:2.0
PRODID:-//West Carleton Online - ECPv5.0.1//NONSGML v1.0//EN
CALSCALE:GREGORIAN
METHOD:PUBLISH
X-WR-CALNAME:West Carleton Online
X-ORIGINAL-URL:https://westcarletononline.com
X-WR-CALDESC:Events for West Carleton Online
BEGIN:VTIMEZONE
TZID:UTC
BEGIN:STANDARD
TZOFFSETFROM:+0000
TZOFFSETTO:+0000
TZNAME:UTC
DTSTART:20200101T000000
END:STANDARD
END:VTIMEZONE
BEGIN:VEVENT
DTSTART;TZID=UTC:20200204T100000
DTEND;TZID=UTC:20200204T110000
DTSTAMP:20260424T054342
CREATED:20200107T223021Z
LAST-MODIFIED:20200107T223021Z
UID:12406-1580810400-1580814000@westcarletononline.com
SUMMARY:Tiny Tunes - Music Time for Preschoolers
DESCRIPTION:Classes will run in 4-week sessions\, on Tuesdays OR Thursdays from 10-11am at Gambit Academy\, 211 Donald B. Munro Drive in Carp. The first sessions will start February 4th or 6th\, and run until February 25th or 27th\, 2020. \nSome of the activities and themes we will cover are: \n• Rhythm and tempo for tots\n• Basic music shapes and names\n• Music-themed matching games\n• Fun with instruments (triangles\, shakers\, drums and more!)\n• Sing-alongs with Jennifer\n• Music-themed art projects\n• Movement and music exercises\n• Musical story time \n…just to name a few! And all activities are geared toward the level of each child. Parents are encouraged to participate too! \nThe cost for 4 weeks is $80 per child\, and discounts available for families with more than one child in the group\, or with another student (or parent!) taking private lessons with me. \nFor more information\, please email jennifer@gambit-academy.com\, or visit our website at www.gambit-academy.com. \nYou can also register directly by following this link: \nhttps://forms.gle/AVdx6AwCo3xXeywc6 \n
URL:https://westcarletononline.com/event/tiny-tunes-music-time-for-preschoolers-4/
LOCATION:Gambit Music Academy\, 211 Donald B. Munro Dr.\, Carp\, Ontario\, K0A 1L0\, Canada
END:VEVENT
END:VCALENDAR