BEGIN:VCALENDAR
VERSION:2.0
PRODID:-//West Carleton Online - ECPv5.0.1//NONSGML v1.0//EN
CALSCALE:GREGORIAN
METHOD:PUBLISH
X-WR-CALNAME:West Carleton Online
X-ORIGINAL-URL:https://westcarletononline.com
X-WR-CALDESC:Events for West Carleton Online
BEGIN:VTIMEZONE
TZID:America/New_York
BEGIN:DAYLIGHT
TZOFFSETFROM:-0500
TZOFFSETTO:-0400
TZNAME:EDT
DTSTART:20240310T070000
END:DAYLIGHT
BEGIN:STANDARD
TZOFFSETFROM:-0400
TZOFFSETTO:-0500
TZNAME:EST
DTSTART:20241103T060000
END:STANDARD
END:VTIMEZONE
BEGIN:VEVENT
DTSTART;TZID=America/New_York:20240306T120000
DTEND;TZID=America/New_York:20240306T140000
DTSTAMP:20260421T195141
CREATED:20240212T170624Z
LAST-MODIFIED:20240212T170624Z
UID:40496-1709726400-1709733600@westcarletononline.com
SUMMARY:The Lunch Bunch by Seniors at Home
DESCRIPTION:A full course luncheon event in the Arnprior Legion Hall on Wednesday\, March 6 from 12-2 pm. Choice of sandwiches sliced roast beef on a bun or egg salad. Karl and Linda Dregischan will entertain. Tickets are $12 from agency office until noon on Friday March 1st. All seniors or adults with disabilities welcome. \n
URL:https://westcarletononline.com/event/the-lunch-bunch-by-seniors-at-home/
LOCATION:The Arnprior Legion\, 49 Daniel St N\, Arnprior\, Ontario\, K7S2K6\, Canada
ORGANIZER;CN="Arnprior-Braeside-McNab%20Seniors%20at%20HOme":MAILTO:nikkirumbelow@cssagency.ca
END:VEVENT
END:VCALENDAR