BEGIN:VCALENDAR
VERSION:2.0
PRODID:-//West Carleton Online - ECPv5.0.1//NONSGML v1.0//EN
CALSCALE:GREGORIAN
METHOD:PUBLISH
X-WR-CALNAME:West Carleton Online
X-ORIGINAL-URL:https://westcarletononline.com
X-WR-CALDESC:Events for West Carleton Online
BEGIN:VTIMEZONE
TZID:UTC
BEGIN:STANDARD
TZOFFSETFROM:+0000
TZOFFSETTO:+0000
TZNAME:UTC
DTSTART:20180101T000000
END:STANDARD
END:VTIMEZONE
BEGIN:VEVENT
DTSTART;TZID=UTC:20180920T180000
DTEND;TZID=UTC:20180923T170000
DTSTAMP:20260419T174901
CREATED:20180915T002705Z
LAST-MODIFIED:20180915T002705Z
UID:2195-1537466400-1537722000@westcarletononline.com
SUMMARY:The Carp Fair
DESCRIPTION:The Carp Fair takes over the Carp Agricultural Society fairgrounds from Sept. 20 to Sept. 25. For all the info on the Carp Fair\, visit their website carpfair.ca \n
URL:https://westcarletononline.com/event/the-carp-fair/
END:VEVENT
END:VCALENDAR