BEGIN:VCALENDAR
VERSION:2.0
PRODID:-//West Carleton Online - ECPv5.0.1//NONSGML v1.0//EN
CALSCALE:GREGORIAN
METHOD:PUBLISH
X-WR-CALNAME:West Carleton Online
X-ORIGINAL-URL:https://westcarletononline.com
X-WR-CALDESC:Events for West Carleton Online
BEGIN:VTIMEZONE
TZID:America/New_York
BEGIN:DAYLIGHT
TZOFFSETFROM:-0500
TZOFFSETTO:-0400
TZNAME:EDT
DTSTART:20240310T070000
END:DAYLIGHT
BEGIN:STANDARD
TZOFFSETFROM:-0400
TZOFFSETTO:-0500
TZNAME:EST
DTSTART:20241103T060000
END:STANDARD
END:VTIMEZONE
BEGIN:VEVENT
DTSTART;TZID=America/New_York:20241127T110000
DTEND;TZID=America/New_York:20241127T120000
DTSTAMP:20260424T145417
CREATED:20241005T221509Z
LAST-MODIFIED:20241005T221509Z
UID:45218-1732705200-1732708800@westcarletononline.com
SUMMARY:Stay and play
DESCRIPTION:Join us following Storytime in our children’s area to play and chat! There will be self-directed activities and toys for parents/caregivers and young children. Drop-in program. \nThis program runs until Wednesday December 18th \n
URL:https://westcarletononline.com/event/stay-and-play-8/
LOCATION:Carp Branch – Ottawa Public Library\, 3911 Carp Road
ORGANIZER;CN="Carp%20branch%2C%20Ottawa%20Public%20Library":MAILTO:infoservice@biblioottawalibrary.ca
END:VEVENT
END:VCALENDAR