BEGIN:VCALENDAR
VERSION:2.0
PRODID:-//West Carleton Online - ECPv5.0.1//NONSGML v1.0//EN
CALSCALE:GREGORIAN
METHOD:PUBLISH
X-WR-CALNAME:West Carleton Online
X-ORIGINAL-URL:https://westcarletononline.com
X-WR-CALDESC:Events for West Carleton Online
BEGIN:VTIMEZONE
TZID:America/New_York
BEGIN:DAYLIGHT
TZOFFSETFROM:-0500
TZOFFSETTO:-0400
TZNAME:EDT
DTSTART:20250309T070000
END:DAYLIGHT
BEGIN:STANDARD
TZOFFSETFROM:-0400
TZOFFSETTO:-0500
TZNAME:EST
DTSTART:20251102T060000
END:STANDARD
END:VTIMEZONE
BEGIN:VEVENT
DTSTART;TZID=America/New_York:20251101T180000
DTEND;TZID=America/New_York:20251101T203000
DTSTAMP:20260421T195737
CREATED:20251014T150638Z
LAST-MODIFIED:20251014T150638Z
UID:52505-1762020000-1762029000@westcarletononline.com
SUMMARY:St Thomas’ Anglican Church Woodlawn Lasagna Supper
DESCRIPTION:Lasagna Supper Saturday  Nov 1/25\, one sitting only at 6 p.m..  Fitzroy Harbour Community Centre.  Adults $25.00 children under 8 is $10.00.  Take out is available. ADVANCE TICKETS ONLY call 613 -832-1400 or 613-832-2451.  Accepting non perishable items for West Carleton Food Bank.  Music by Bill Wilson and Kevin Davis. \n  \n
URL:https://westcarletononline.com/event/st-thomas-anglican-church-woodlawn-lasagna-supper/
LOCATION:Fitzroy Harbour Community Centre
ORGANIZER;CN="St.%20Thomas%27%20Anglican%20Church":MAILTO:jac.braun@sympatico.ca
END:VEVENT
END:VCALENDAR