BEGIN:VCALENDAR
VERSION:2.0
PRODID:-//West Carleton Online - ECPv5.0.1//NONSGML v1.0//EN
CALSCALE:GREGORIAN
METHOD:PUBLISH
X-WR-CALNAME:West Carleton Online
X-ORIGINAL-URL:https://westcarletononline.com
X-WR-CALDESC:Events for West Carleton Online
BEGIN:VTIMEZONE
TZID:UTC
BEGIN:STANDARD
TZOFFSETFROM:+0000
TZOFFSETTO:+0000
TZNAME:UTC
DTSTART:20220101T000000
END:STANDARD
END:VTIMEZONE
BEGIN:VEVENT
DTSTART;TZID=UTC:20220528T100000
DTEND;TZID=UTC:20220528T130000
DTSTAMP:20260424T213100
CREATED:20220517T040236Z
LAST-MODIFIED:20220517T040236Z
UID:28136-1653732000-1653742800@westcarletononline.com
SUMMARY:St. Paul's Anglican Church Yard Sale
DESCRIPTION: \nSaturday\, May 28\, 10 am to 1 pm:  Your Treasure Awaits! \nPlus Sausage on a Bun and a beverage for $6 \nPut on by \nSt. Paul’s Anglican Church & Dunrobin Women’s Institute \n
URL:https://westcarletononline.com/event/st-pauls-anglican-church-yard-sale/
LOCATION:St. Paul’s Church\, Dunrobin\, 1118 Thomas Dolan Parkway\, Dunrobin\, ON\, K0A1T0\, Canada
ORGANIZER;CN="St.%20Paul%27s%20Church":MAILTO:dnrgoldthorp@rogers.com
END:VEVENT
END:VCALENDAR