BEGIN:VCALENDAR
VERSION:2.0
PRODID:-//West Carleton Online - ECPv5.0.1//NONSGML v1.0//EN
CALSCALE:GREGORIAN
METHOD:PUBLISH
X-WR-CALNAME:West Carleton Online
X-ORIGINAL-URL:https://westcarletononline.com
X-WR-CALDESC:Events for West Carleton Online
BEGIN:VTIMEZONE
TZID:UTC
BEGIN:STANDARD
TZOFFSETFROM:+0000
TZOFFSETTO:+0000
TZNAME:UTC
DTSTART:20220101T000000
END:STANDARD
END:VTIMEZONE
BEGIN:VEVENT
DTSTART;TZID=UTC:20221103T190000
DTEND;TZID=UTC:20221103T210000
DTSTAMP:20260422T061740
CREATED:20221012T041316Z
LAST-MODIFIED:20221012T041316Z
UID:30961-1667502000-1667509200@westcarletononline.com
SUMMARY:Six-handed euchre in Galetta
DESCRIPTION:The Galetta Community Association will again be sponsoring euchre at the hall on November 3rd\, 10th 17th and 24th at 7 p.m.  Doors open at 6:00 p.m.  Cost of $5.  50/50 at the door. \nCoffee\, tea and cookies served following the games. \n
URL:https://westcarletononline.com/event/six-handed-euchre-in-galetta/
LOCATION:Galetta Community Centre\, 119 Darwin St.\, Galetta\, ON\, K7S 3G7\, Canada
END:VEVENT
END:VCALENDAR