BEGIN:VCALENDAR
VERSION:2.0
PRODID:-//West Carleton Online - ECPv5.0.1//NONSGML v1.0//EN
CALSCALE:GREGORIAN
METHOD:PUBLISH
X-WR-CALNAME:West Carleton Online
X-ORIGINAL-URL:https://westcarletononline.com
X-WR-CALDESC:Events for West Carleton Online
BEGIN:VTIMEZONE
TZID:America/New_York
BEGIN:DAYLIGHT
TZOFFSETFROM:-0500
TZOFFSETTO:-0400
TZNAME:EDT
DTSTART:20240310T070000
END:DAYLIGHT
BEGIN:STANDARD
TZOFFSETFROM:-0400
TZOFFSETTO:-0500
TZNAME:EST
DTSTART:20241103T060000
END:STANDARD
END:VTIMEZONE
BEGIN:VEVENT
DTSTART;TZID=America/New_York:20240309T100000
DTEND;TZID=America/New_York:20240309T140000
DTSTAMP:20260422T015837
CREATED:20240206T175741Z
LAST-MODIFIED:20240206T175741Z
UID:40379-1709978400-1709992800@westcarletononline.com
SUMMARY:Seedy Saturday in Carp
DESCRIPTION: \n
URL:https://westcarletononline.com/event/seedy-saturday-in-carp/
LOCATION:Carp Agricultural Hall\, 3790 Carp Road\, Carp\, Ontario\, K0A 1L0\, Canada
END:VEVENT
END:VCALENDAR