BEGIN:VCALENDAR
VERSION:2.0
PRODID:-//West Carleton Online - ECPv5.0.1//NONSGML v1.0//EN
CALSCALE:GREGORIAN
METHOD:PUBLISH
X-WR-CALNAME:West Carleton Online
X-ORIGINAL-URL:https://westcarletononline.com
X-WR-CALDESC:Events for West Carleton Online
BEGIN:VTIMEZONE
TZID:UTC
BEGIN:STANDARD
TZOFFSETFROM:+0000
TZOFFSETTO:+0000
TZNAME:UTC
DTSTART:20220101T000000
END:STANDARD
END:VTIMEZONE
BEGIN:VEVENT
DTSTART;TZID=UTC:20221029T110000
DTEND;TZID=UTC:20221029T160000
DTSTAMP:20260419T123112
CREATED:20221013T211246Z
LAST-MODIFIED:20221013T211246Z
UID:30994-1667041200-1667059200@westcarletononline.com
SUMMARY:Samhain Celebration & Artisan Market
DESCRIPTION:Join us for a fabulous day in honour of Samhain! Come out and discover local creators of magic and whimsy! \nSamhain\, or Hallowtide (Halloween)\, marks the close of harvest for the season and is celebrated around the world in various ways.\nWe welcome skillful artisans\, wonderful events\, yummy food\, and magical folk in honour of the season. Local artisans will have their creativity on display and products for sale.  Warm up around the bonfire roasting marshmallows and enjoying hot chocolate  We’ll also be inviting folks to craft Halloween masks at our Ninth Wave Arts crafting area. Come out and celebrate the offerings of the day; breathe in the fresh air and walk amongst the trees. Be inspired\, have good conversation\, shop and if you feel inclined\, dress up and get some treats (no tricks!).   Watch for more info at https://ninthwavearts.ca \n
URL:https://westcarletononline.com/event/samhain-celebration-artisan-market/
LOCATION:Carp Ridge EcoWellness Centre\, 2386 Thomas Dolan Pkwy\, Carp\, ON\, K0A 1L0\, Canada
END:VEVENT
END:VCALENDAR