BEGIN:VCALENDAR
VERSION:2.0
PRODID:-//West Carleton Online - ECPv5.0.1//NONSGML v1.0//EN
CALSCALE:GREGORIAN
METHOD:PUBLISH
X-WR-CALNAME:West Carleton Online
X-ORIGINAL-URL:https://westcarletononline.com
X-WR-CALDESC:Events for West Carleton Online
BEGIN:VTIMEZONE
TZID:UTC
BEGIN:STANDARD
TZOFFSETFROM:+0000
TZOFFSETTO:+0000
TZNAME:UTC
DTSTART:20190101T000000
END:STANDARD
END:VTIMEZONE
BEGIN:VEVENT
DTSTART;TZID=UTC:20191031T190000
DTEND;TZID=UTC:20191102T190000
DTSTAMP:20260424T091549
CREATED:20191028T172343Z
LAST-MODIFIED:20191028T172343Z
UID:10955-1572548400-1572721200@westcarletononline.com
SUMMARY:Rural Root Theatre Company's presentation of FrankenSteve
DESCRIPTION:FrankenSteve In a bar in the Amazon Jungle\, a woman meets a big game hunter\, a mechanic and… an evil engineer? What could go wrong?\nThis one-act play is Rural Root’s entry into the Eastern Ontario Drama League (EODL) One-Act Play Festival. The show will run on Oct 31st to Nov 2nd\, 2019 at the West Carleton Amateur Sport Club at W. Erskine Johnston Arena in Carp. Tickets are only $10 (general admission) and available at www.ruralroot.org or by calling 613-618-9789. \n \n
URL:https://westcarletononline.com/event/rural-root-theatre-companys-presentation-of-frankensteve/
LOCATION:West Carleton Amateur Sports Club\, W. Erskine Johnston Arena\, 3832 Carp Road\, Carp\, ON\, K0A 1L0\, Canada
END:VEVENT
END:VCALENDAR