BEGIN:VCALENDAR
VERSION:2.0
PRODID:-//West Carleton Online - ECPv5.0.1//NONSGML v1.0//EN
CALSCALE:GREGORIAN
METHOD:PUBLISH
X-WR-CALNAME:West Carleton Online
X-ORIGINAL-URL:https://westcarletononline.com
X-WR-CALDESC:Events for West Carleton Online
BEGIN:VTIMEZONE
TZID:UTC
BEGIN:STANDARD
TZOFFSETFROM:+0000
TZOFFSETTO:+0000
TZNAME:UTC
DTSTART:20190101T000000
END:STANDARD
END:VTIMEZONE
BEGIN:VEVENT
DTSTART;TZID=UTC:20191027T170000
DTEND;TZID=UTC:20191027T190000
DTSTAMP:20260424T130549
CREATED:20191018T221232Z
LAST-MODIFIED:20191018T221232Z
UID:10770-1572195600-1572202800@westcarletononline.com
SUMMARY:Pinhey's Point Historic Site Hallowe'en Storytelling Program
DESCRIPTION:A family-friendly version of our Halloween storytelling program. Immerse yourself in the legends and lore of the Ottawa Valley…if you dare. Bring your family and gather round for a live storytelling program that will shift your understanding of history from the ordinary to the otherworldly. A lantern-lit tour of the manor house will add to the atmosphere. S’mores and hot apple cider will be served for a seasonal treat. Featuring guest storyteller Marie Bilodeau. \nSunday\, October 27 from 5:00 pm to 7:00 pm;\nAges 5 and up;\nCost: $6.63 children; $10.65 adults. \nRegistration is required. The registration deadline is Wednesday\, October 23. A minimum of 5 registered participants is required for the program to run. Please use Service Ottawa’s online registration system (https://apps102.ottawa.ca) to register using the corresponding barcode below. \nBarcode (ages 5 to 15): 1515846\nBarcode (ages 16+): 1515817 \nNote:\n– This program will be delivered in English. Bilingual staff will be present to assist guests.\n– Portions of this program are planned to take place outside. Please dress for weather conditions. \nottawa.ca/pinheyspoint \n
URL:https://westcarletononline.com/event/pinheys-point-historic-site-halloween-storytelling-program/
LOCATION:Pinhey’s Point Historic Site\, 270 Pinheys Point Road\, Ottawa
END:VEVENT
END:VCALENDAR