BEGIN:VCALENDAR
VERSION:2.0
PRODID:-//West Carleton Online - ECPv5.0.1//NONSGML v1.0//EN
CALSCALE:GREGORIAN
METHOD:PUBLISH
X-WR-CALNAME:West Carleton Online
X-ORIGINAL-URL:https://westcarletononline.com
X-WR-CALDESC:Events for West Carleton Online
BEGIN:VTIMEZONE
TZID:America/New_York
BEGIN:DAYLIGHT
TZOFFSETFROM:-0500
TZOFFSETTO:-0400
TZNAME:EDT
DTSTART:20250309T070000
END:DAYLIGHT
BEGIN:STANDARD
TZOFFSETFROM:-0400
TZOFFSETTO:-0500
TZNAME:EST
DTSTART:20251102T060000
END:STANDARD
END:VTIMEZONE
BEGIN:VEVENT
DTSTART;TZID=America/New_York:20250605T190000
DTEND;TZID=America/New_York:20250605T203000
DTSTAMP:20260423T093333
CREATED:20250529T152453Z
LAST-MODIFIED:20250529T152453Z
UID:49792-1749150000-1749155400@westcarletononline.com
SUMMARY:Notes for Nature II
DESCRIPTION:Following a successful first staging in June 2024\, the second Notes for Nature concert will be held on Thursday\, June 5th (World Environment Day) at 7:00pm at the Almonte Old Town Hall. This night of beautiful Earth-themed music will raise funds\nfor the Mississippi Madawaska Land Trust’s (MMLT) vital land conservation work. \nOur headliner will be acclaimed folk singer/songwriter David Francey\, accompanied by guitarist and singer Chris Murphy. Francey is a four-time Juno Award winner\, including for his 2024 album\, The Breath Between (Traditional Roots Album of the Year). \nThe evening will also include an appearance by the River Resonance vocal ensemble\, led by Nicola Oddy. They offer a wide range of music from interpretations of well-known and beloved classics to novel\, gorgeous choral arrangements of songs rarely performed in public.\nOpening will be guitarists and singers Rob Rainer and David Ramsden\, pianist and singer Mary Lou Carroll\, bassist and singer Doug Barr\, percussionist and singer\, Steve Kotze\, and singer Rebecca Worden. \nFor more information on this special event\, and to purchase tickets ($25)\, please click here: https://www.mmlt.ca/event/notes-for-nature-ii \n
URL:https://westcarletononline.com/event/notes-for-nature-ii/
LOCATION:Almonte Old Town Hall\, 14 Bridge Street\, Almonte\, Ontario\, K0A 1A0\, Canada
ORGANIZER;CN="Mississippi%20Madawask%20Land%20Trust":MAILTO:admin@mmlt.ca
END:VEVENT
END:VCALENDAR