BEGIN:VCALENDAR
VERSION:2.0
PRODID:-//West Carleton Online - ECPv5.0.1//NONSGML v1.0//EN
CALSCALE:GREGORIAN
METHOD:PUBLISH
X-WR-CALNAME:West Carleton Online
X-ORIGINAL-URL:https://westcarletononline.com
X-WR-CALDESC:Events for West Carleton Online
BEGIN:VTIMEZONE
TZID:UTC
BEGIN:STANDARD
TZOFFSETFROM:+0000
TZOFFSETTO:+0000
TZNAME:UTC
DTSTART:20180101T000000
END:STANDARD
END:VTIMEZONE
BEGIN:VEVENT
DTSTART;TZID=UTC:20181016T100000
DTEND;TZID=UTC:20181016T100000
DTSTAMP:20260422T134246
CREATED:20181004T183747Z
LAST-MODIFIED:20181004T183747Z
UID:2568-1539684000-1539684000@westcarletononline.com
SUMMARY:Naturopathic Healing Group
DESCRIPTION:Naturopathic Healing Group\, one morning a month (3rd Tues) from 10:00 am – 11:30 am at the Carp Ridge EcoWellness Centre. \nWhere you will have the opportunity to:\n* ask individual questions about your health or for a family member\n* receive information about supplements\, herbs and remedies (with muscle testing)\n* get suggestions and appropriate referrals to other practitioners as needed\n* experience short meditations\, visualizations and other simple healing techniques\n* enjoy tea made from herbs picked at the centre\n* meet like-minded people for support \nFacilitator: Dr. Katherine Willow N.D.\, fourth generation naturopathic doctor with over 30 years of experience and special interest in the role of emotions in disease and healing. \nCost: $20 per session \nEveryone Welcome \nFor more information and to register please call Ellie at 613-839-1198 or email at info@ecowellness.com \n
URL:https://westcarletononline.com/event/naturopathic-healing-group/
END:VEVENT
END:VCALENDAR