BEGIN:VCALENDAR
VERSION:2.0
PRODID:-//West Carleton Online - ECPv5.0.1//NONSGML v1.0//EN
CALSCALE:GREGORIAN
METHOD:PUBLISH
X-WR-CALNAME:West Carleton Online
X-ORIGINAL-URL:https://westcarletononline.com
X-WR-CALDESC:Events for West Carleton Online
BEGIN:VTIMEZONE
TZID:UTC
BEGIN:STANDARD
TZOFFSETFROM:+0000
TZOFFSETTO:+0000
TZNAME:UTC
DTSTART:20190101T000000
END:STANDARD
END:VTIMEZONE
BEGIN:VEVENT
DTSTART;TZID=UTC:20190105T130000
DTEND;TZID=UTC:20190105T160000
DTSTAMP:20260424T171638
CREATED:20181218T221313Z
LAST-MODIFIED:20181218T221313Z
UID:4025-1546693200-1546704000@westcarletononline.com
SUMMARY:MPP Merrilee Fullerton New Year Levée
DESCRIPTION: \nJoin the MPP at her first ever New Year’s Levée\, Saturday\, Jan. 5. \nConservative Kanata-Carleton MPP Dr. Merrilee Fullerton is hosting the inaugural event at the Legion Branch 638 at 70 Hines Road\, Kanata. \nThe levée runs from 1 to 4 p.m. and organizers ask you RSVP at Merrilee.fullertion@oc.ola.org or call 613-599-3000. \n
URL:https://westcarletononline.com/event/mpp-merrilee-fullerton-new-year-levee/
END:VEVENT
END:VCALENDAR