BEGIN:VCALENDAR
VERSION:2.0
PRODID:-//West Carleton Online - ECPv5.0.1//NONSGML v1.0//EN
CALSCALE:GREGORIAN
METHOD:PUBLISH
X-WR-CALNAME:West Carleton Online
X-ORIGINAL-URL:https://westcarletononline.com
X-WR-CALDESC:Events for West Carleton Online
BEGIN:VTIMEZONE
TZID:UTC
BEGIN:STANDARD
TZOFFSETFROM:+0000
TZOFFSETTO:+0000
TZNAME:UTC
DTSTART:20230101T000000
END:STANDARD
END:VTIMEZONE
BEGIN:VEVENT
DTSTART;TZID=UTC:20230602T190000
DTEND;TZID=UTC:20230602T210000
DTSTAMP:20260422T003639
CREATED:20230526T195857Z
LAST-MODIFIED:20230526T195857Z
UID:35371-1685732400-1685739600@westcarletononline.com
SUMMARY:Mental Health\, Salsa Dancing and Sundaes
DESCRIPTION: \n
URL:https://westcarletononline.com/event/mental-health-salsa-dancing-and-sundaes/
LOCATION:Bethel St Andrew’s United Church\, 184 Jack Lougheed Way\, Fitzroy Harbour
END:VEVENT
END:VCALENDAR