BEGIN:VCALENDAR
VERSION:2.0
PRODID:-//West Carleton Online - ECPv5.0.1//NONSGML v1.0//EN
CALSCALE:GREGORIAN
METHOD:PUBLISH
X-WR-CALNAME:West Carleton Online
X-ORIGINAL-URL:https://westcarletononline.com
X-WR-CALDESC:Events for West Carleton Online
BEGIN:VTIMEZONE
TZID:UTC
BEGIN:STANDARD
TZOFFSETFROM:+0000
TZOFFSETTO:+0000
TZNAME:UTC
DTSTART:20190101T000000
END:STANDARD
END:VTIMEZONE
BEGIN:VEVENT
DTSTART;TZID=UTC:20190615T093000
DTEND;TZID=UTC:20190615T113000
DTSTAMP:20260420T195437
CREATED:20190529T175542Z
LAST-MODIFIED:20190529T175542Z
UID:7251-1560591000-1560598200@westcarletononline.com
SUMMARY:Men's Ministry Breakfast Meeting
DESCRIPTION:Join us on Saturday\, June 15th\, 9:30 am at Bethel St. Andrew’s United Church\, 184 Jack Lougheed Way\, Fitzroy Harbour. Our guest speaker will be Chris Tonkin\, a retired Operations Manager with Ontario Power Generation. Chris will provide an overview of the operation of the Ottawa River Basin including interactions among the various stakeholders\, the operating philosophy and strategies in its management. \nAll men of the Community are welcome. \nContact Jim Simpson at 613-832-7830 for more information or transportation assistance or to let us know you will be attending. \n
URL:https://westcarletononline.com/event/mens-ministry-breakfast-meeting-6/
LOCATION:Bethel St Andrew’s United Church\, 184 Jack Lougheed Way\, Fitzroy Harbour
ORGANIZER;CN="Bethel%20St.%20Andrew%27s%20United%20Church":MAILTO:info@bethelstandrews.com
END:VEVENT
END:VCALENDAR