BEGIN:VCALENDAR
VERSION:2.0
PRODID:-//West Carleton Online - ECPv5.0.1//NONSGML v1.0//EN
CALSCALE:GREGORIAN
METHOD:PUBLISH
X-WR-CALNAME:West Carleton Online
X-ORIGINAL-URL:https://westcarletononline.com
X-WR-CALDESC:Events for West Carleton Online
BEGIN:VTIMEZONE
TZID:UTC
BEGIN:STANDARD
TZOFFSETFROM:+0000
TZOFFSETTO:+0000
TZNAME:UTC
DTSTART:20190101T000000
END:STANDARD
END:VTIMEZONE
BEGIN:VEVENT
DTSTART;VALUE=DATE:20190915
DTEND;VALUE=DATE:20190922
DTSTAMP:20260419T151911
CREATED:20190910T194442Z
LAST-MODIFIED:20190910T194511Z
UID:9730-1568505600-1569110399@westcarletononline.com
SUMMARY:Legion Week
DESCRIPTION:September means Legion Week. This year Legion Week is from Sunday\, Sept. 15 to Saturday\, Sept.  21. Rather than the pig roast this year\, a barbecue will follow the four p.m. Honours and Awards opening ceremony on Sunday. The dart leagues will resume on their usual nights\, using Legion Week and the week after to welcome regular and new players. The new singles dart league is off and running with Wednesday Sept. 4 being the kick-off. Legion Week will wind up with the annual Legion Golf on Saturday Sept. 4. Branch 616 welcomes everyone to drop in during Legion Week and see what your local Legion has to offer. Please join in the activities and special events.  \nSunday\, Sept. 15: Honours & Awards\, BBQ. Kick-off to Legion Week! 4 p.m.\, followed by BBQ ($14). Entertainment by Forever Friends karaoke. Come and take in the awards presentations\, treat yourself to the BBQ and treat us to your Karaoke talents. Everyone welcome. \nMonday\, Sept. 16: Monthly Meetings. Executive\, 6:30 p.m. General\, 7:30 p.m.  \nTuesday\, Sept. 17: Ladies 7 p.m. Darts. First dart session after the summer hiatus. New players are encouraged to check it out\, see if you like it\, perhaps become a regular when the season starts Oct. 7. Everyone welcome. \nWednesday\, Sept. 18: West Singles Mixed Dart League 7 p.m.  \nThursday\, Sept. 19: Carpet Bowling 1 p.m. Men’s Darts 7:30 .pm. New players are welcome to try out these events. Everyone welcome. \nFriday\, Sept. 20: TGIF Dinner 5:30 p.m. Ham & Scalloped Potatoes $14 tax inc. Children under 9 half price\, toddlers no charge. Jim’s Trivia! 7 p.m. Small entry fee. Everyone welcome. \nSaturday\, Sept. 21: Legion Golf: 12:30 p.m. Copperdale Links. One golf cart per team: $75 with cart or $60 walking. Dinner and awards back at the branch. Call Tom at 613-832-1143 for more details.  \n
URL:https://westcarletononline.com/event/legion-week/
LOCATION:Royal Canadian Legion\, Branch 616\, 377 Allbirch Rd.\, Ottawa
END:VEVENT
END:VCALENDAR