BEGIN:VCALENDAR
VERSION:2.0
PRODID:-//West Carleton Online - ECPv5.0.1//NONSGML v1.0//EN
CALSCALE:GREGORIAN
METHOD:PUBLISH
X-WR-CALNAME:West Carleton Online
X-ORIGINAL-URL:https://westcarletononline.com
X-WR-CALDESC:Events for West Carleton Online
BEGIN:VTIMEZONE
TZID:UTC
BEGIN:STANDARD
TZOFFSETFROM:+0000
TZOFFSETTO:+0000
TZNAME:UTC
DTSTART:20190101T000000
END:STANDARD
END:VTIMEZONE
BEGIN:VEVENT
DTSTART;TZID=UTC:20191102T170000
DTEND;TZID=UTC:20191102T210000
DTSTAMP:20260420T032600
CREATED:20191001T190856Z
LAST-MODIFIED:20191001T190856Z
UID:10291-1572714000-1572728400@westcarletononline.com
SUMMARY:Holy Hops Brewfest and Lasagna Dinner
DESCRIPTION: \n
URL:https://westcarletononline.com/event/holy-hops-brewfest-and-lasagna-dinner/
LOCATION:Fitzroy Harbour Community Centre
END:VEVENT
END:VCALENDAR