BEGIN:VCALENDAR
VERSION:2.0
PRODID:-//West Carleton Online - ECPv5.0.1//NONSGML v1.0//EN
CALSCALE:GREGORIAN
METHOD:PUBLISH
X-WR-CALNAME:West Carleton Online
X-ORIGINAL-URL:https://westcarletononline.com
X-WR-CALDESC:Events for West Carleton Online
BEGIN:VTIMEZONE
TZID:UTC
BEGIN:STANDARD
TZOFFSETFROM:+0000
TZOFFSETTO:+0000
TZNAME:UTC
DTSTART:20200101T000000
END:STANDARD
END:VTIMEZONE
BEGIN:VEVENT
DTSTART;VALUE=DATE:20201107
DTEND;VALUE=DATE:20201109
DTSTAMP:20260424T062215
CREATED:20201103T220446Z
LAST-MODIFIED:20201103T220446Z
UID:17827-1604707200-1604879999@westcarletononline.com
SUMMARY:HCA metal waste recycling drop-off
DESCRIPTION:On November 7-8 the Huntley Community Association is again offering local residents an environmentally convenient way to recycle metal wastes. \nAt last year’s event over two metric tonnes of metal were recycled with the proceeds ($350) used to support other HCA initiatives!\nMetro Scrap Metal has again generously agreed to supply a storage bin for this year’s event\, at no cost to the HCA\, which will be located at the outdoor rink by the Carp fairgrounds. All types of metal are accepted in addition to e-waste\, insulated wiring and appliances that do not contain freon or flammable liquids.\nAn HCA volunteer will be onsite from 9 a.m. – 12 p.m. on Nov. 7 for those residents who may need assistance placing their recyclable metal in the bin.\nNote that current COVID-19 rules will prevent the HCA volunteer from carrying items out of residents’ vehicles.\n
URL:https://westcarletononline.com/event/hca-metal-waste-recycling-drop-off/
LOCATION:Carp Outdoor Rink
END:VEVENT
END:VCALENDAR