BEGIN:VCALENDAR
VERSION:2.0
PRODID:-//West Carleton Online - ECPv5.0.1//NONSGML v1.0//EN
CALSCALE:GREGORIAN
METHOD:PUBLISH
X-WR-CALNAME:West Carleton Online
X-ORIGINAL-URL:https://westcarletononline.com
X-WR-CALDESC:Events for West Carleton Online
BEGIN:VTIMEZONE
TZID:UTC
BEGIN:STANDARD
TZOFFSETFROM:+0000
TZOFFSETTO:+0000
TZNAME:UTC
DTSTART:20220101T000000
END:STANDARD
END:VTIMEZONE
BEGIN:VEVENT
DTSTART;TZID=UTC:20220617T100000
DTEND;TZID=UTC:20220619T170000
DTSTAMP:20260426T000937
CREATED:20220616T234139Z
LAST-MODIFIED:20220616T234623Z
UID:28835-1655460000-1655658000@westcarletononline.com
SUMMARY:HCA Fundraising Scrap Metal and Electronic Recycling Drive for WCDR
DESCRIPTION:Fundraising Scrap Metal and Electronic Recycling Drive – Friday June 17\, 18th\, and 19th\, the Huntley Community Association is once again providing local area residents with an environmentally convenient way to recycle metal waste. Funds raised from the sale of the scrap will support the efforts of West Carleton Disaster Relief. WCDR is actively supporting victims of the recent major wind storm. \nTwo bins will be located across from the outdoor rink at the Carp Fairgrounds. \nAll types of metal will be accepted including insulated wiring and appliances that do not contain Freon or flammable liquids. \nE-waste will be accepted but we ask that this be put separately in the smaller bin.(e.g. old TV’s\, computers\, printers\, phones\, etc.) \nVolunteers will be onsite from 9 a.m. to 1 p.m. on Saturday\, June 18th for those residents who may need assistance placing their recyclable metal in the bin. \nThank you to Metro Scrap Metal for again supplying storage bins at no cost. \n
URL:https://westcarletononline.com/event/hca-fundraising-scrap-metal-and-electronic-recycling-drive-for-wcdr/
LOCATION:W. Erskine Johnston Arena\, 3832 Carp Rd.\, Carp\, Ontario
END:VEVENT
END:VCALENDAR