BEGIN:VCALENDAR
VERSION:2.0
PRODID:-//West Carleton Online - ECPv5.0.1//NONSGML v1.0//EN
CALSCALE:GREGORIAN
METHOD:PUBLISH
X-WR-CALNAME:West Carleton Online
X-ORIGINAL-URL:https://westcarletononline.com
X-WR-CALDESC:Events for West Carleton Online
BEGIN:VTIMEZONE
TZID:America/New_York
BEGIN:DAYLIGHT
TZOFFSETFROM:-0500
TZOFFSETTO:-0400
TZNAME:EDT
DTSTART:20260308T070000
END:DAYLIGHT
BEGIN:STANDARD
TZOFFSETFROM:-0400
TZOFFSETTO:-0500
TZNAME:EST
DTSTART:20261101T060000
END:STANDARD
END:VTIMEZONE
BEGIN:VEVENT
DTSTART;TZID=America/New_York:20260503T150000
DTEND;TZID=America/New_York:20260503T170000
DTSTAMP:20260424T003455
CREATED:20260419T145341Z
LAST-MODIFIED:20260419T145341Z
UID:56107-1777820400-1777827600@westcarletononline.com
SUMMARY:Goulbourn Male Chorus presents The Best of Both Worlds
DESCRIPTION: \n
URL:https://westcarletononline.com/event/goulbourn-male-chorus-presents-the-best-of-both-worlds/
LOCATION:Trinity Presbyterian Church\, 1817 Richardson Side Road\, Kanata\, Ontario\, Canada
END:VEVENT
END:VCALENDAR