BEGIN:VCALENDAR
VERSION:2.0
PRODID:-//West Carleton Online - ECPv5.0.1//NONSGML v1.0//EN
CALSCALE:GREGORIAN
METHOD:PUBLISH
X-WR-CALNAME:West Carleton Online
X-ORIGINAL-URL:https://westcarletononline.com
X-WR-CALDESC:Events for West Carleton Online
BEGIN:VTIMEZONE
TZID:UTC
BEGIN:STANDARD
TZOFFSETFROM:+0000
TZOFFSETTO:+0000
TZNAME:UTC
DTSTART:20220101T000000
END:STANDARD
END:VTIMEZONE
BEGIN:VEVENT
DTSTART;TZID=UTC:20220228T190000
DTEND;TZID=UTC:20220228T203000
DTSTAMP:20260422T050117
CREATED:20220211T221651Z
LAST-MODIFIED:20220211T221651Z
UID:26248-1646074800-1646080200@westcarletononline.com
SUMMARY:Galetta Community Association meeting and membership drive
DESCRIPTION:OPERATION “PHOENIX”\, GALETTA COMMUNITY ASSOC. \nNOW THAT THE “END IS IN SIGHT”\nHELP OUR COMMUNITY TO “RISE FROM THE ASHES”\nOF THE COVID-19 PANDEMIC\,\nBY RENEWING YOUR 2022 MEMBERSHIP\nAND SHARING YOUR IDEAS.\nYOU ARE THEREFORE CORDIALLY INVITED TO:\nATTEND THE SPRING MEETING – 28TH FEBRUARY 7:00 p.m.\nat the Community Centre\, and Enrol in person. \nOR\, MAIL your 2022 Fee to the GCA’S Mailing address\, which is; \nThe Galetta Community Association\,\n119 Darwin St\,\nARNPRIOR\, ON\nK7S 3G7\n—————————————————————————————————————————-\nGCA Membership fee ($5 or $10 Family) for 2022 enclosed for: Name(s)……………………………………………………………………………………………………………………………………\nAddress:…………………………………………………………………………………………………………………………………….\ne-Mail address:……………………………………………………Tel:………………………………………………………………..\n(Cheque made out to “Galetta Community Association” Thank you.) \n* My family would like to see the following provided at Galetta:\n* …………………………………………………………………………………………………………………………………..\n* I would like to help make this happen……………………………………………….YES/NO/PERHAPS.\n* I could be available on the following days:…………………………………………………………………….. \n(Although some activities may not be possible just yet\, we would like to plan for the Post Pandemic era\, so that your ideas can take root as soon as feasible.) \nYOURS SINCERELY\,: Your Executive: Dave\, Sam\, Patricia\, and Marsha. \n
URL:https://westcarletononline.com/event/galetta-community-association-meeting-and-membership-drive/
LOCATION:Galetta Community Centre\, 119 Darwin St.\, Galetta\, ON\, K7S 3G7\, Canada
END:VEVENT
END:VCALENDAR