BEGIN:VCALENDAR
VERSION:2.0
PRODID:-//West Carleton Online - ECPv5.0.1//NONSGML v1.0//EN
CALSCALE:GREGORIAN
METHOD:PUBLISH
X-WR-CALNAME:West Carleton Online
X-ORIGINAL-URL:https://westcarletononline.com
X-WR-CALDESC:Events for West Carleton Online
BEGIN:VTIMEZONE
TZID:UTC
BEGIN:STANDARD
TZOFFSETFROM:+0000
TZOFFSETTO:+0000
TZNAME:UTC
DTSTART:20190101T000000
END:STANDARD
END:VTIMEZONE
BEGIN:VEVENT
DTSTART;TZID=UTC:20190803T113000
DTEND;TZID=UTC:20190803T140000
DTSTAMP:20260421T100739
CREATED:20190713T005916Z
LAST-MODIFIED:20190713T005916Z
UID:8395-1564831800-1564840800@westcarletononline.com
SUMMARY:Free Musical Crafts Workshop and Porchfest
DESCRIPTION:Saturdays (August 3\, 10\, 17 and 24):\n \n11:30am – 12:30pm \nFREE Musical Crafts Workshop – all ages. Music-themed crafts and activities! Spaces are limited due to space\, so email gambit.academy2018@gmail.com to reserve your space soon! \n \n\n1pm – 2pm\nPorchfest Snacks and Songs! Come hang out on the Village Station porch\, have a snack and sing some songs with Jennifer! Bring an instrument or something to bang on if you like\, or just come to listen…anything goes! All ages\, everyone welcome! (Free)\n\n
URL:https://westcarletononline.com/event/free-musical-crafts-workshop-and-porchfest/
END:VEVENT
END:VCALENDAR