BEGIN:VCALENDAR
VERSION:2.0
PRODID:-//West Carleton Online - ECPv5.0.1//NONSGML v1.0//EN
CALSCALE:GREGORIAN
METHOD:PUBLISH
X-WR-CALNAME:West Carleton Online
X-ORIGINAL-URL:https://westcarletononline.com
X-WR-CALDESC:Events for West Carleton Online
BEGIN:VTIMEZONE
TZID:America/Toronto
BEGIN:DAYLIGHT
TZOFFSETFROM:-0500
TZOFFSETTO:-0400
TZNAME:EDT
DTSTART:20240310T070000
END:DAYLIGHT
BEGIN:STANDARD
TZOFFSETFROM:-0400
TZOFFSETTO:-0500
TZNAME:EST
DTSTART:20241103T060000
END:STANDARD
END:VTIMEZONE
BEGIN:VEVENT
DTSTART;TZID=America/Toronto:20240704T103000
DTEND;TZID=America/Toronto:20240704T113000
DTSTAMP:20260425T172327
CREATED:20240630T151057Z
LAST-MODIFIED:20240630T151057Z
UID:43275-1720089000-1720092600@westcarletononline.com
SUMMARY:Fitzroy Harbour Library Program – TD Summer Reading Club for Children
DESCRIPTION:Written in the Stars (ages 4-9) \nWhat can the stars predict? \nRegistration required. Ages 4-9. \nThis is the same program being offered at Beaverbrook\, Hazeldean\, and Carp. Please register online for the program at the branch most convenient for you! \n  \n
URL:https://westcarletononline.com/event/fitzroy-harbour-library-program-td-summer-reading-club-for-children-3/
LOCATION:Fitzroy Harbour Community Centre
ORGANIZER;CN="FitzRoy%20Harbour%2C%20Ottawa%20Public%20Library":MAILTO:infoservice@biblioottawalibrary.ca
END:VEVENT
END:VCALENDAR