BEGIN:VCALENDAR
VERSION:2.0
PRODID:-//West Carleton Online - ECPv5.0.1//NONSGML v1.0//EN
CALSCALE:GREGORIAN
METHOD:PUBLISH
X-WR-CALNAME:West Carleton Online
X-ORIGINAL-URL:https://westcarletononline.com
X-WR-CALDESC:Events for West Carleton Online
BEGIN:VTIMEZONE
TZID:UTC
BEGIN:STANDARD
TZOFFSETFROM:+0000
TZOFFSETTO:+0000
TZNAME:UTC
DTSTART:20230101T000000
END:STANDARD
END:VTIMEZONE
BEGIN:VEVENT
DTSTART;TZID=UTC:20230509T190000
DTEND;TZID=UTC:20230509T210000
DTSTAMP:20260420T211245
CREATED:20230305T060132Z
LAST-MODIFIED:20230305T060132Z
UID:33691-1683658800-1683666000@westcarletononline.com
SUMMARY:Fitzroy Harbour Community Association - Annual Meeting 2023
DESCRIPTION:Attention all Fitzroy Harbour Community Association members: our annual meeting will be held Tuesday May 9\, 2023 starting at 7 p.m. at the Fitzroy Harbour Community Centre. \nFind out more about your community association and get involved. Learn about our successes over the past year\, help plan the next year going forward and elect the new FHCA executive. \nThis year the FHCA will be adopting new Operating By-laws as per the Ontario Not-for-profit Corporations Act. \nIf you don’t already have one\, buy your membership ($15 single\, $20 family\, donation for seniors) at fitzroyharbour.com to be eligible to vote. Memberships also available at the door. \nOur financial statements and proposed new by-laws will be available for review on our website 30 days before this meeting. \n
URL:https://westcarletononline.com/event/fitzroy-harbour-community-association-annual-meeting-2023/
LOCATION:Fitzroy Harbour Community Centre
END:VEVENT
END:VCALENDAR