BEGIN:VCALENDAR
VERSION:2.0
PRODID:-//West Carleton Online - ECPv5.0.1//NONSGML v1.0//EN
CALSCALE:GREGORIAN
METHOD:PUBLISH
X-WR-CALNAME:West Carleton Online
X-ORIGINAL-URL:https://westcarletononline.com
X-WR-CALDESC:Events for West Carleton Online
BEGIN:VTIMEZONE
TZID:UTC
BEGIN:STANDARD
TZOFFSETFROM:+0000
TZOFFSETTO:+0000
TZNAME:UTC
DTSTART:20220101T000000
END:STANDARD
END:VTIMEZONE
BEGIN:VEVENT
DTSTART;TZID=UTC:20220221T130000
DTEND;TZID=UTC:20220221T150000
DTSTAMP:20260420T204203
CREATED:20220215T001815Z
LAST-MODIFIED:20220215T001815Z
UID:26286-1645448400-1645455600@westcarletononline.com
SUMMARY:Family Day Free Skate at Kinburn SensPlex
DESCRIPTION: \n
URL:https://westcarletononline.com/event/family-day-free-skate-at-kinburn-sensplex/
LOCATION:Thomas Cavanagh SensPlex\, 5670 Carp Road\, Ottawa
END:VEVENT
END:VCALENDAR