BEGIN:VCALENDAR
VERSION:2.0
PRODID:-//West Carleton Online - ECPv5.0.1//NONSGML v1.0//EN
CALSCALE:GREGORIAN
METHOD:PUBLISH
X-WR-CALNAME:West Carleton Online
X-ORIGINAL-URL:https://westcarletononline.com
X-WR-CALDESC:Events for West Carleton Online
BEGIN:VTIMEZONE
TZID:UTC
BEGIN:STANDARD
TZOFFSETFROM:+0000
TZOFFSETTO:+0000
TZNAME:UTC
DTSTART:20180101T000000
END:STANDARD
END:VTIMEZONE
BEGIN:VEVENT
DTSTART;TZID=UTC:20181020T083000
DTEND;TZID=UTC:20181020T163000
DTSTAMP:20260421T170722
CREATED:20181009T222520Z
LAST-MODIFIED:20181009T222520Z
UID:2668-1540024200-1540053000@westcarletononline.com
SUMMARY:Emergency First Aid and CPR & AED Training at Stonecrest Elementary School
DESCRIPTION:Emergency First Aid and CPR & AED Training at Stonecrest \nSaturday\, October 20th \nFor the fourth year in a row\, the SES Council is organizing Emergency First Aid and CPR & AED training at Stonecrest. \nStudents\, staff\, and members of the wider community are invited to participate! \nThe courses will take place on Saturday\, October 20th in the Stonecrest Library. \nChoose from two options: \nCPR & AED – Saturday\, October 20th – 8:30 am to 12:30 pm – $35 \nThis course covers Airway/Breathing/Circulation\, CPR/AED (Adults & Children)\, Choking\, Heart Attack\, Stroke\, Communicable Diseases\, the Law\, and Emergency Scenarios. Certification for one year. \nEmergency First Aid – Saturday\, October 20th – 8:30 am to 12:30 pm + 1:00 pm to 4:30 pm – $80 \nIn addition to the above\, this course covers Shock\, Wounds & Bleeding\, Musculoskeletal Emergencies\, Head & Spinal Emergencies\, Burns\, Respiratory Emergencies\, Anaphylaxis\, Seizures\, Diabetic Emergencies\, Environment\, Poisoning\, and Triage. Certification for three years. \nThe option to recertify Standard First Aid is also available. \nChoose to attend only the morning or the whole day. For those staying for the day\, a lunch break will take place after the CPR & AED course\, so please bring your own lunch. We encourage a nut-free lunch in case of any potential food allergies. The cost is $35 for the morning or $80 for the day (plus $1.20 online payment fee). \nFor more information\, and to register: \nhttp://stonecrestcouncil.ca/2018/09/register-now-for-cpr-aed-or-emergency-first-aid-certification-at-stonecrest/ \nAny questions\, please contact: first-aid@stonecrestcouncil.ca. \nWe hope to see you there! \n
URL:https://westcarletononline.com/event/emergency-first-aid-and-cpr-aed-training-at-stonecrest-elementary-school/
LOCATION:Stonecrest Elementary School\, 3791 Stonecrest Road\, Woodlawn\, Ontario\, K0A 3M0\, Canada
ORGANIZER;CN="Stonecrest%20Elementary%20School%20Council":MAILTO:first-aid@stonecrestcouncil.ca
END:VEVENT
END:VCALENDAR