BEGIN:VCALENDAR
VERSION:2.0
PRODID:-//West Carleton Online - ECPv5.0.1//NONSGML v1.0//EN
CALSCALE:GREGORIAN
METHOD:PUBLISH
X-WR-CALNAME:West Carleton Online
X-ORIGINAL-URL:https://westcarletononline.com
X-WR-CALDESC:Events for West Carleton Online
BEGIN:VTIMEZONE
TZID:UTC
BEGIN:STANDARD
TZOFFSETFROM:+0000
TZOFFSETTO:+0000
TZNAME:UTC
DTSTART:20190101T000000
END:STANDARD
END:VTIMEZONE
BEGIN:VEVENT
DTSTART;TZID=UTC:20190306T183000
DTEND;TZID=UTC:20190306T203000
DTSTAMP:20260421T103207
CREATED:20190221T191458Z
LAST-MODIFIED:20190227T013357Z
UID:5195-1551897000-1551904200@westcarletononline.com
SUMMARY:Deep Roots Food Hub AGM
DESCRIPTION:The meeting will be held at the West Carleton Amateur Sports Club at 3832 Carp Road\, Wednesday\, March 6 from 6:30 p.m. to 8:30 p.m. \n
URL:https://westcarletononline.com/event/deep-roots-food-hub-agm/
ATTACH;FMTTYPE=image/jpeg:https://westcarletononline.com/wp-content/uploads/2019/02/Deep-Roots.jpg
END:VEVENT
END:VCALENDAR